Package: RTCA Version: 1.58.0 Command: rm -rf RTCA.buildbin-libdir && mkdir RTCA.buildbin-libdir && F:\biocbuild\bbs-3.20-bioc\R\bin\R.exe CMD INSTALL --build --library=RTCA.buildbin-libdir RTCA_1.58.0.tar.gz StartedAt: 2025-04-01 09:06:13 -0400 (Tue, 01 Apr 2025) EndedAt: 2025-04-01 09:06:45 -0400 (Tue, 01 Apr 2025) EllapsedTime: 31.6 seconds RetCode: 0 Status: OK PackageFile: RTCA_1.58.0.zip PackageFileSize: 594.1 KiB