Package: RTCA Version: 1.58.0 Command: /Library/Frameworks/R.framework/Resources/bin/R CMD check --install=check:RTCA.install-out.txt --library=/Library/Frameworks/R.framework/Resources/library --no-vignettes --timings RTCA_1.58.0.tar.gz StartedAt: 2025-04-02 06:56:40 -0400 (Wed, 02 Apr 2025) EndedAt: 2025-04-02 06:57:19 -0400 (Wed, 02 Apr 2025) EllapsedTime: 39.1 seconds RetCode: 0 Status: WARNINGS CheckDir: RTCA.Rcheck Warnings: 1