Package: RSeqAn Version: 1.26.0 Command: F:\biocbuild\bbs-3.20-bioc\R\bin\R.exe CMD check --no-multiarch --install=check:RSeqAn.install-out.txt --library=F:\biocbuild\bbs-3.20-bioc\R\library --no-vignettes --timings RSeqAn_1.26.0.tar.gz StartedAt: 2025-04-01 05:27:30 -0400 (Tue, 01 Apr 2025) EndedAt: 2025-04-01 05:28:05 -0400 (Tue, 01 Apr 2025) EllapsedTime: 35.8 seconds RetCode: 0 Status: WARNINGS CheckDir: RSeqAn.Rcheck Warnings: 1