Package: RSeqAn Version: 1.26.0 Command: /home/biocbuild/bbs-3.20-bioc/R/bin/R CMD build --keep-empty-dirs --no-resave-data --md5 RSeqAn StartedAt: 2025-01-30 18:55:29 -0500 (Thu, 30 Jan 2025) EndedAt: 2025-01-30 18:55:45 -0500 (Thu, 30 Jan 2025) EllapsedTime: 16.0 seconds RetCode: 0 Status: OK PackageFile: RSeqAn_1.26.0.tar.gz PackageFileSize: 1.641 MiB