Package: RSeqAn Version: 1.26.0 Command: /Library/Frameworks/R.framework/Resources/bin/R CMD build --keep-empty-dirs --no-resave-data RSeqAn StartedAt: 2025-04-01 06:36:52 -0400 (Tue, 01 Apr 2025) EndedAt: 2025-04-01 06:37:14 -0400 (Tue, 01 Apr 2025) EllapsedTime: 21.6 seconds RetCode: 0 Status: OK PackageFile: RSeqAn_1.26.0.tar.gz PackageFileSize: 1.621 MiB