Package: RSVSim Version: 1.46.0 Command: F:\biocbuild\bbs-3.20-bioc\R\bin\R.exe CMD INSTALL RSVSim StartedAt: 2025-01-27 16:30:48 -0500 (Mon, 27 Jan 2025) EndedAt: 2025-01-27 16:31:27 -0500 (Mon, 27 Jan 2025) EllapsedTime: 38.7 seconds RetCode: 0 Status: OK