Package: RSVSim Version: 1.46.0 Command: /Library/Frameworks/R.framework/Resources/bin/R CMD INSTALL RSVSim StartedAt: 2025-01-27 16:33:09 -0500 (Mon, 27 Jan 2025) EndedAt: 2025-01-27 16:33:47 -0500 (Mon, 27 Jan 2025) EllapsedTime: 37.3 seconds RetCode: 0 Status: OK