Package: RSVSim Version: 1.46.0 Command: /Library/Frameworks/R.framework/Resources/bin/R CMD check --install=check:RSVSim.install-out.txt --library=/Library/Frameworks/R.framework/Resources/library --no-vignettes --timings RSVSim_1.46.0.tar.gz StartedAt: 2025-01-29 07:14:11 -0500 (Wed, 29 Jan 2025) EndedAt: 2025-01-29 07:18:10 -0500 (Wed, 29 Jan 2025) EllapsedTime: 238.2 seconds RetCode: 0 Status: OK CheckDir: RSVSim.Rcheck Warnings: 0