Package: RProtoBufLib Version: 2.18.0 Command: /home/biocbuild/R/R/bin/R CMD INSTALL RProtoBufLib StartedAt: 2025-01-27 21:02:04 -0000 (Mon, 27 Jan 2025) EndedAt: 2025-01-27 21:08:18 -0000 (Mon, 27 Jan 2025) EllapsedTime: 374.8 seconds RetCode: 0 Status: OK