Package: RProtoBufLib Version: 2.18.0 Command: F:\biocbuild\bbs-3.20-bioc\R\bin\R.exe CMD INSTALL RProtoBufLib StartedAt: 2025-03-31 15:20:31 -0400 (Mon, 31 Mar 2025) EndedAt: 2025-03-31 15:23:13 -0400 (Mon, 31 Mar 2025) EllapsedTime: 162.4 seconds RetCode: 0 Status: OK