Package: RProtoBufLib Version: 2.18.0 Command: rm -rf RProtoBufLib.buildbin-libdir && mkdir RProtoBufLib.buildbin-libdir && F:\biocbuild\bbs-3.20-bioc\R\bin\R.exe CMD INSTALL --build --library=RProtoBufLib.buildbin-libdir RProtoBufLib_2.18.0.tar.gz StartedAt: 2025-01-28 09:01:02 -0500 (Tue, 28 Jan 2025) EndedAt: 2025-01-28 09:01:52 -0500 (Tue, 28 Jan 2025) EllapsedTime: 50.5 seconds RetCode: 0 Status: OK PackageFile: RProtoBufLib_2.18.0.zip PackageFileSize: 2.301 MiB