Package: RProtoBufLib Version: 2.18.0 Command: /Library/Frameworks/R.framework/Resources/bin/R CMD check --install=check:RProtoBufLib.install-out.txt --library=/Library/Frameworks/R.framework/Resources/library --no-vignettes --timings RProtoBufLib_2.18.0.tar.gz StartedAt: 2025-02-04 09:14:05 -0500 (Tue, 04 Feb 2025) EndedAt: 2025-02-04 09:14:45 -0500 (Tue, 04 Feb 2025) EllapsedTime: 40.0 seconds RetCode: 0 Status: WARNINGS CheckDir: RProtoBufLib.Rcheck Warnings: 2