Package: RProtoBufLib Version: 2.18.0 Command: /Library/Frameworks/R.framework/Resources/bin/R CMD build --keep-empty-dirs --no-resave-data RProtoBufLib StartedAt: 2025-01-27 22:06:41 -0500 (Mon, 27 Jan 2025) EndedAt: 2025-01-27 22:17:18 -0500 (Mon, 27 Jan 2025) EllapsedTime: 636.9 seconds RetCode: 0 Status: OK PackageFile: RProtoBufLib_2.18.0.tar.gz PackageFileSize: 2.786 MiB