Package: RProtoBufLib Version: 2.18.0 Command: /Library/Frameworks/R.framework/Resources/bin/R CMD check --install=check:RProtoBufLib.install-out.txt --library=/Library/Frameworks/R.framework/Resources/library --no-vignettes --timings RProtoBufLib_2.18.0.tar.gz StartedAt: 2025-01-29 07:07:05 -0500 (Wed, 29 Jan 2025) EndedAt: 2025-01-29 07:07:28 -0500 (Wed, 29 Jan 2025) EllapsedTime: 23.1 seconds RetCode: 0 Status: WARNINGS CheckDir: RProtoBufLib.Rcheck Warnings: 2