Package: ROntoTools Version: 2.34.0 Command: /home/biocbuild/R/R/bin/R CMD INSTALL ROntoTools StartedAt: 2025-02-03 20:30:23 -0000 (Mon, 03 Feb 2025) EndedAt: 2025-02-03 20:30:39 -0000 (Mon, 03 Feb 2025) EllapsedTime: 15.7 seconds RetCode: 0 Status: OK