Package: ROntoTools Version: 2.34.0 Command: /home/biocbuild/R/R/bin/R CMD check --install=check:ROntoTools.install-out.txt --library=/home/biocbuild/R/R/site-library --no-vignettes --timings ROntoTools_2.34.0.tar.gz StartedAt: 2025-02-04 10:34:07 -0000 (Tue, 04 Feb 2025) EndedAt: 2025-02-04 10:37:07 -0000 (Tue, 04 Feb 2025) EllapsedTime: 180.2 seconds RetCode: 0 Status: WARNINGS CheckDir: ROntoTools.Rcheck Warnings: 1