Package: ROntoTools Version: 2.34.0 Command: F:\biocbuild\bbs-3.20-bioc\R\bin\R.exe CMD INSTALL ROntoTools StartedAt: 2025-01-27 15:52:41 -0500 (Mon, 27 Jan 2025) EndedAt: 2025-01-27 15:53:08 -0500 (Mon, 27 Jan 2025) EllapsedTime: 27.4 seconds RetCode: 0 Status: OK