Package: ROntoTools Version: 2.34.0 Command: rm -rf ROntoTools.buildbin-libdir && mkdir ROntoTools.buildbin-libdir && /Users/biocbuild/BBS/utils/build-universal.sh ROntoTools_2.34.0.tar.gz /Library/Frameworks/R.framework/Resources/bin/R ROntoTools.buildbin-libdir StartedAt: 2025-01-28 14:25:06 -0500 (Tue, 28 Jan 2025) EndedAt: 2025-01-28 14:25:42 -0500 (Tue, 28 Jan 2025) EllapsedTime: 36.2 seconds RetCode: 0 Status: OK PackageFile: ROntoTools_2.34.0.tgz PackageFileSize: 1.6 MiB