Package: ROSeq Version: 1.18.0 Command: F:\biocbuild\bbs-3.20-bioc\R\bin\R.exe CMD INSTALL ROSeq StartedAt: 2025-02-10 15:35:55 -0500 (Mon, 10 Feb 2025) EndedAt: 2025-02-10 15:36:14 -0500 (Mon, 10 Feb 2025) EllapsedTime: 19.3 seconds RetCode: 0 Status: OK