Package: ROSeq Version: 1.18.0 Command: chmod a+r ROSeq -R && F:\biocbuild\bbs-3.20-bioc\R\bin\R.exe CMD build --keep-empty-dirs --no-resave-data ROSeq StartedAt: 2025-02-10 21:40:42 -0500 (Mon, 10 Feb 2025) EndedAt: 2025-02-10 21:45:51 -0500 (Mon, 10 Feb 2025) EllapsedTime: 309.1 seconds RetCode: 0 Status: OK PackageFile: ROSeq_1.18.0.tar.gz PackageFileSize: 4.192 MiB