Package: ROSeq Version: 1.18.0 Command: /home/biocbuild/bbs-3.20-bioc/R/bin/R CMD check --install=check:ROSeq.install-out.txt --library=/home/biocbuild/bbs-3.20-bioc/R/site-library --timings ROSeq_1.18.0.tar.gz StartedAt: 2025-02-11 01:47:56 -0500 (Tue, 11 Feb 2025) EndedAt: 2025-02-11 01:53:25 -0500 (Tue, 11 Feb 2025) EllapsedTime: 329.4 seconds RetCode: 0 Status: WARNINGS CheckDir: ROSeq.Rcheck Warnings: 1