Package: ROSeq Version: 1.18.0 Command: rm -rf ROSeq.buildbin-libdir && mkdir ROSeq.buildbin-libdir && /Users/biocbuild/BBS/utils/build-universal.sh ROSeq_1.18.0.tar.gz /Library/Frameworks/R.framework/Resources/bin/R ROSeq.buildbin-libdir StartedAt: 2025-02-11 14:22:18 -0500 (Tue, 11 Feb 2025) EndedAt: 2025-02-11 14:22:44 -0500 (Tue, 11 Feb 2025) EllapsedTime: 26.1 seconds RetCode: 0 Status: OK PackageFile: ROSeq_1.18.0.tgz PackageFileSize: 7.209 MiB