Package: ROSeq Version: 1.18.0 Command: /Library/Frameworks/R.framework/Resources/bin/R CMD INSTALL ROSeq StartedAt: 2025-02-10 15:13:57 -0500 (Mon, 10 Feb 2025) EndedAt: 2025-02-10 15:14:11 -0500 (Mon, 10 Feb 2025) EllapsedTime: 14.5 seconds RetCode: 0 Status: OK