Package: ROCpAI Version: 1.18.0 Command: chmod a+r ROCpAI -R && F:\biocbuild\bbs-3.20-bioc\R\bin\R.exe CMD build --keep-empty-dirs --no-resave-data ROCpAI StartedAt: 2025-02-10 21:39:36 -0500 (Mon, 10 Feb 2025) EndedAt: 2025-02-10 21:40:20 -0500 (Mon, 10 Feb 2025) EllapsedTime: 43.9 seconds RetCode: 0 Status: OK PackageFile: ROCpAI_1.18.0.tar.gz PackageFileSize: 324 KiB