Package: ROCpAI Version: 1.18.0 Command: /home/biocbuild/bbs-3.20-bioc/R/bin/R CMD check --install=check:ROCpAI.install-out.txt --library=/home/biocbuild/bbs-3.20-bioc/R/site-library --timings ROCpAI_1.18.0.tar.gz StartedAt: 2025-04-01 01:40:19 -0400 (Tue, 01 Apr 2025) EndedAt: 2025-04-01 01:42:40 -0400 (Tue, 01 Apr 2025) EllapsedTime: 141.1 seconds RetCode: 0 Status: OK CheckDir: ROCpAI.Rcheck Warnings: 0