Package: ROCpAI Version: 1.18.0 Command: /home/biocbuild/bbs-3.20-bioc/R/bin/R CMD build --keep-empty-dirs --no-resave-data --md5 ROCpAI StartedAt: 2025-03-31 18:51:48 -0400 (Mon, 31 Mar 2025) EndedAt: 2025-03-31 18:52:18 -0400 (Mon, 31 Mar 2025) EllapsedTime: 30.0 seconds RetCode: 0 Status: OK PackageFile: ROCpAI_1.18.0.tar.gz PackageFileSize: 408.1 KiB