Package: ROCpAI Version: 1.18.0 Command: /Library/Frameworks/R.framework/Resources/bin/R CMD check --install=check:ROCpAI.install-out.txt --library=/Library/Frameworks/R.framework/Resources/library --no-vignettes --timings ROCpAI_1.18.0.tar.gz StartedAt: 2025-04-02 06:41:34 -0400 (Wed, 02 Apr 2025) EndedAt: 2025-04-02 06:44:04 -0400 (Wed, 02 Apr 2025) EllapsedTime: 150.0 seconds RetCode: 0 Status: OK CheckDir: ROCpAI.Rcheck Warnings: 0