Package: ROC Version: 1.82.0 Command: /Library/Frameworks/R.framework/Resources/bin/R CMD check --install=check:ROC.install-out.txt --library=/Library/Frameworks/R.framework/Resources/library --no-vignettes --timings ROC_1.82.0.tar.gz StartedAt: 2025-01-31 09:11:32 -0500 (Fri, 31 Jan 2025) EndedAt: 2025-01-31 09:12:21 -0500 (Fri, 31 Jan 2025) EllapsedTime: 49.9 seconds RetCode: 0 Status: OK CheckDir: ROC.Rcheck Warnings: 0