Package: ROC Version: 1.82.0 Command: rm -rf ROC.buildbin-libdir && mkdir ROC.buildbin-libdir && /Users/biocbuild/BBS/utils/build-universal.sh ROC_1.82.0.tar.gz /Library/Frameworks/R.framework/Resources/bin/R ROC.buildbin-libdir StartedAt: 2024-11-09 17:08:50 -0500 (Sat, 09 Nov 2024) EndedAt: 2024-11-09 17:08:52 -0500 (Sat, 09 Nov 2024) EllapsedTime: 2.0 seconds RetCode: 0 Status: OK PackageFile: ROC_1.82.0.tgz PackageFileSize: 271.2 KiB