Package: RNAseqCovarImpute Version: 1.4.0 Command: /home/biocbuild/R/R/bin/R CMD INSTALL RNAseqCovarImpute StartedAt: 2025-01-30 20:51:33 -0000 (Thu, 30 Jan 2025) EndedAt: 2025-01-30 20:51:45 -0000 (Thu, 30 Jan 2025) EllapsedTime: 12.2 seconds RetCode: 0 Status: OK