Package: RNAseqCovarImpute Version: 1.4.0 Command: /home/biocbuild/R/R/bin/R CMD check --install=check:RNAseqCovarImpute.install-out.txt --library=/home/biocbuild/R/R/site-library --no-vignettes --timings RNAseqCovarImpute_1.4.0.tar.gz StartedAt: 2025-04-01 10:07:13 -0000 (Tue, 01 Apr 2025) EndedAt: 2025-04-01 10:47:14 -0000 (Tue, 01 Apr 2025) EllapsedTime: 2400.4 seconds RetCode: None Status: TIMEOUT CheckDir: RNAseqCovarImpute.Rcheck Warnings: NA