Package: RNAseqCovarImpute Version: 1.4.0 Command: /home/biocbuild/R/R/bin/R CMD build --keep-empty-dirs --no-resave-data RNAseqCovarImpute StartedAt: 2025-04-01 02:10:06 -0000 (Tue, 01 Apr 2025) EndedAt: 2025-04-01 02:11:28 -0000 (Tue, 01 Apr 2025) EllapsedTime: 82.1 seconds RetCode: 0 Status: OK PackageFile: RNAseqCovarImpute_1.4.0.tar.gz PackageFileSize: 816 KiB