Package: RNAseqCovarImpute Version: 1.4.0 Command: F:\biocbuild\bbs-3.20-bioc\R\bin\R.exe CMD INSTALL RNAseqCovarImpute StartedAt: 2025-01-27 16:39:39 -0500 (Mon, 27 Jan 2025) EndedAt: 2025-01-27 16:40:19 -0500 (Mon, 27 Jan 2025) EllapsedTime: 39.7 seconds RetCode: 0 Status: OK