Package: RNAseqCovarImpute Version: 1.4.0 Command: /Library/Frameworks/R.framework/Resources/bin/R CMD INSTALL RNAseqCovarImpute StartedAt: 2025-03-31 17:17:56 -0400 (Mon, 31 Mar 2025) EndedAt: 2025-03-31 17:18:08 -0400 (Mon, 31 Mar 2025) EllapsedTime: 11.7 seconds RetCode: 0 Status: OK