Package: RNAseqCovarImpute Version: 1.4.0 Command: /Library/Frameworks/R.framework/Resources/bin/R CMD check --install=check:RNAseqCovarImpute.install-out.txt --library=/Library/Frameworks/R.framework/Resources/library --no-vignettes --timings RNAseqCovarImpute_1.4.0.tar.gz StartedAt: 2025-04-02 06:36:11 -0400 (Wed, 02 Apr 2025) EndedAt: 2025-04-02 06:38:25 -0400 (Wed, 02 Apr 2025) EllapsedTime: 133.6 seconds RetCode: 0 Status: OK CheckDir: RNAseqCovarImpute.Rcheck Warnings: 0