Package: RNAseqCovarImpute Version: 1.4.0 Command: rm -rf RNAseqCovarImpute.buildbin-libdir && mkdir RNAseqCovarImpute.buildbin-libdir && /Users/biocbuild/BBS/utils/build-universal.sh RNAseqCovarImpute_1.4.0.tar.gz /Library/Frameworks/R.framework/Resources/bin/R RNAseqCovarImpute.buildbin-libdir StartedAt: 2025-02-01 16:35:50 -0500 (Sat, 01 Feb 2025) EndedAt: 2025-02-01 16:36:03 -0500 (Sat, 01 Feb 2025) EllapsedTime: 13.6 seconds RetCode: 0 Status: OK PackageFile: RNAseqCovarImpute_1.4.0.tgz PackageFileSize: 799.5 KiB