Package: RNAsense Version: 1.20.0 Command: /home/biocbuild/R/R/bin/R CMD INSTALL RNAsense StartedAt: 2025-02-03 20:34:17 -0000 (Mon, 03 Feb 2025) EndedAt: 2025-02-03 20:34:45 -0000 (Mon, 03 Feb 2025) EllapsedTime: 28.0 seconds RetCode: 0 Status: OK