Package: RNAsense Version: 1.20.0 Command: /home/biocbuild/R/R/bin/R CMD build --keep-empty-dirs --no-resave-data RNAsense StartedAt: 2025-02-04 02:21:43 -0000 (Tue, 04 Feb 2025) EndedAt: 2025-02-04 02:28:45 -0000 (Tue, 04 Feb 2025) EllapsedTime: 422.6 seconds RetCode: 0 Status: OK PackageFile: RNAsense_1.20.0.tar.gz PackageFileSize: 848.6 KiB