Package: RNAmodR Version: 1.20.0 Command: /Library/Frameworks/R.framework/Resources/bin/R CMD check --install=check:RNAmodR.install-out.txt --library=/Library/Frameworks/R.framework/Resources/library --no-vignettes --timings RNAmodR_1.20.0.tar.gz StartedAt: 2024-11-20 01:59:05 -0500 (Wed, 20 Nov 2024) EndedAt: 2024-11-20 02:10:38 -0500 (Wed, 20 Nov 2024) EllapsedTime: 692.9 seconds RetCode: 0 Status: OK CheckDir: RNAmodR.Rcheck Warnings: 0