Package: RNAmodR.AlkAnilineSeq Version: 1.20.0 Command: rm -rf RNAmodR.AlkAnilineSeq.buildbin-libdir && mkdir RNAmodR.AlkAnilineSeq.buildbin-libdir && /Users/biocbuild/BBS/utils/build-universal.sh RNAmodR.AlkAnilineSeq_1.20.0.tar.gz /Library/Frameworks/R.framework/Resources/bin/R RNAmodR.AlkAnilineSeq.buildbin-libdir StartedAt: 2025-01-29 16:17:43 -0500 (Wed, 29 Jan 2025) EndedAt: 2025-01-29 16:18:55 -0500 (Wed, 29 Jan 2025) EllapsedTime: 71.7 seconds RetCode: 0 Status: OK PackageFile: RNAmodR.AlkAnilineSeq_1.20.0.tgz PackageFileSize: 1.109 MiB