Package: RNAinteract Version: 1.54.0 Command: /home/biocbuild/R/R/bin/R CMD build --keep-empty-dirs --no-resave-data RNAinteract StartedAt: 2025-02-04 02:20:44 -0000 (Tue, 04 Feb 2025) EndedAt: 2025-02-04 02:20:46 -0000 (Tue, 04 Feb 2025) EllapsedTime: 2.0 seconds RetCode: 1 Status: ERROR PackageFile: None PackageFileSize: NA