Package: RNASeqPower Version: 1.46.0 Command: /home/biocbuild/R/R/bin/R CMD INSTALL RNASeqPower StartedAt: 2025-01-27 21:06:04 -0000 (Mon, 27 Jan 2025) EndedAt: 2025-01-27 21:06:36 -0000 (Mon, 27 Jan 2025) EllapsedTime: 32.6 seconds RetCode: 0 Status: OK