Package: RNASeqPower Version: 1.46.0 Command: /home/biocbuild/R/R/bin/R CMD build --keep-empty-dirs --no-resave-data RNASeqPower StartedAt: 2025-01-28 02:52:52 -0000 (Tue, 28 Jan 2025) EndedAt: 2025-01-28 02:52:56 -0000 (Tue, 28 Jan 2025) EllapsedTime: 4.0 seconds RetCode: 0 Status: OK PackageFile: RNASeqPower_1.46.0.tar.gz PackageFileSize: 181.3 KiB