Package: RNASeqPower Version: 1.46.0 Command: /Library/Frameworks/R.framework/Resources/bin/R CMD check --install=check:RNASeqPower.install-out.txt --library=/Library/Frameworks/R.framework/Resources/library --no-vignettes --timings RNASeqPower_1.46.0.tar.gz StartedAt: 2025-01-28 09:18:45 -0500 (Tue, 28 Jan 2025) EndedAt: 2025-01-28 09:19:22 -0500 (Tue, 28 Jan 2025) EllapsedTime: 37.0 seconds RetCode: 0 Status: OK CheckDir: RNASeqPower.Rcheck Warnings: 0