Package: RNAAgeCalc Version: 1.18.0 Command: /home/biocbuild/R/R/bin/R CMD build --keep-empty-dirs --no-resave-data RNAAgeCalc StartedAt: 2025-01-28 02:51:22 -0000 (Tue, 28 Jan 2025) EndedAt: 2025-01-28 02:52:44 -0000 (Tue, 28 Jan 2025) EllapsedTime: 82.0 seconds RetCode: 0 Status: OK PackageFile: RNAAgeCalc_1.18.0.tar.gz PackageFileSize: 3.318 MiB