Package: RNAAgeCalc Version: 1.18.0 Command: /Library/Frameworks/R.framework/Resources/bin/R CMD check --install=check:RNAAgeCalc.install-out.txt --library=/Library/Frameworks/R.framework/Resources/library --no-vignettes --timings RNAAgeCalc_1.18.0.tar.gz StartedAt: 2025-04-02 06:29:09 -0400 (Wed, 02 Apr 2025) EndedAt: 2025-04-02 06:35:23 -0400 (Wed, 02 Apr 2025) EllapsedTime: 374.2 seconds RetCode: 0 Status: OK CheckDir: RNAAgeCalc.Rcheck Warnings: 0