Package: RNAAgeCalc Version: 1.18.0 Command: /Library/Frameworks/R.framework/Resources/bin/R CMD build --keep-empty-dirs --no-resave-data RNAAgeCalc StartedAt: 2025-04-01 06:22:44 -0400 (Tue, 01 Apr 2025) EndedAt: 2025-04-01 06:24:10 -0400 (Tue, 01 Apr 2025) EllapsedTime: 86.6 seconds RetCode: 0 Status: OK PackageFile: RNAAgeCalc_1.18.0.tar.gz PackageFileSize: 3.337 MiB