Package: RLassoCox Version: 1.14.0 Command: chmod a+r RLassoCox -R && F:\biocbuild\bbs-3.20-bioc\R\bin\R.exe CMD build --keep-empty-dirs --no-resave-data RLassoCox StartedAt: 2025-03-31 21:29:00 -0400 (Mon, 31 Mar 2025) EndedAt: 2025-03-31 21:30:58 -0400 (Mon, 31 Mar 2025) EllapsedTime: 118.5 seconds RetCode: 0 Status: OK PackageFile: RLassoCox_1.14.0.tar.gz PackageFileSize: 1.968 MiB