Package: RLassoCox Version: 1.14.0 Command: /Library/Frameworks/R.framework/Resources/bin/R CMD check --install=check:RLassoCox.install-out.txt --library=/Library/Frameworks/R.framework/Resources/library --no-vignettes --timings RLassoCox_1.14.0.tar.gz StartedAt: 2025-01-28 09:11:33 -0500 (Tue, 28 Jan 2025) EndedAt: 2025-01-28 09:17:30 -0500 (Tue, 28 Jan 2025) EllapsedTime: 357.0 seconds RetCode: 0 Status: OK CheckDir: RLassoCox.Rcheck Warnings: 0