Package: RLassoCox Version: 1.14.0 Command: /Library/Frameworks/R.framework/Resources/bin/R CMD build --keep-empty-dirs --no-resave-data RLassoCox StartedAt: 2025-01-27 22:00:31 -0500 (Mon, 27 Jan 2025) EndedAt: 2025-01-27 22:02:25 -0500 (Mon, 27 Jan 2025) EllapsedTime: 114.3 seconds RetCode: 0 Status: OK PackageFile: RLassoCox_1.14.0.tar.gz PackageFileSize: 1.966 MiB